BEGIN:VCALENDAR
VERSION:2.0
PRODID:-//Heart of Missouri United Way - ECPv6.15.20//NONSGML v1.0//EN
CALSCALE:GREGORIAN
METHOD:PUBLISH
X-WR-CALNAME:Heart of Missouri United Way
X-ORIGINAL-URL:https://www.uwheartmo.org
X-WR-CALDESC:Events for Heart of Missouri United Way
REFRESH-INTERVAL;VALUE=DURATION:PT1H
X-Robots-Tag:noindex
X-PUBLISHED-TTL:PT1H
BEGIN:VTIMEZONE
TZID:America/Chicago
BEGIN:DAYLIGHT
TZOFFSETFROM:-0600
TZOFFSETTO:-0500
TZNAME:CDT
DTSTART:20220313T080000
END:DAYLIGHT
BEGIN:STANDARD
TZOFFSETFROM:-0500
TZOFFSETTO:-0600
TZNAME:CST
DTSTART:20221106T070000
END:STANDARD
BEGIN:DAYLIGHT
TZOFFSETFROM:-0600
TZOFFSETTO:-0500
TZNAME:CDT
DTSTART:20230312T080000
END:DAYLIGHT
BEGIN:STANDARD
TZOFFSETFROM:-0500
TZOFFSETTO:-0600
TZNAME:CST
DTSTART:20231105T070000
END:STANDARD
BEGIN:DAYLIGHT
TZOFFSETFROM:-0600
TZOFFSETTO:-0500
TZNAME:CDT
DTSTART:20240310T080000
END:DAYLIGHT
BEGIN:STANDARD
TZOFFSETFROM:-0500
TZOFFSETTO:-0600
TZNAME:CST
DTSTART:20241103T070000
END:STANDARD
END:VTIMEZONE
BEGIN:VEVENT
DTSTART;TZID=America/Chicago:20230416T080000
DTEND;TZID=America/Chicago:20230422T170000
DTSTAMP:20260421T083735
CREATED:20230209T202941Z
LAST-MODIFIED:20230209T215212Z
UID:1441-1681632000-1682182800@www.uwheartmo.org
SUMMARY:National Volunteer Week
DESCRIPTION:
URL:https://www.uwheartmo.org/event/national-volunteer-week/
LOCATION:MO
CATEGORIES:Community,Volunteer
END:VEVENT
BEGIN:VEVENT
DTSTART;VALUE=DATE:20230421
DTEND;VALUE=DATE:20230422
DTSTAMP:20260421T083735
CREATED:20230209T215254Z
LAST-MODIFIED:20230412T205358Z
UID:1442-1682035200-1682121599@www.uwheartmo.org
SUMMARY:Give 5 Cohort 3 Graduation & Annual Awards
DESCRIPTION:We invite you to join Heart of Missouri United Way for our Annual Awards Presentation & Give 5 Graduation on Friday\, April 21\, 12:00 p.m. at Shelter Insurance Training Center. \nPlease join Dr. Eryca Neville\, Douglass High School Principal and Heart of Missouri United Way Board Chair\, the Give 5 graduating class\, this year’s Volunteer Award Recipients\, and Andrew Grabau\, Heart of Missouri United Way President and CEO to celebrate National Volunteer Week\, 2022 Award Winners\, and Give 5 graduation. \nWe will begin by highlighting the exceptional volunteerism in our community. We will then announce the annual award recipients for the Jack Matthews Award\, Charlyn Y. Law Memorial Award\, Campaign Chair Achievement Awards\, and the University of Missouri – United Way Volunteer Excellence Award. Lastly\, we will celebrate another special group of volunteers\, the Give 5 graduates\, who have completed the program and pledged to “Give 5” hours a month to a nonprofit of their choice. \nOur celebration will include lunch and cupcakes! \nRegister Here
URL:https://www.uwheartmo.org/event/give-5-cohort-3-graduation/
LOCATION:MO
CATEGORIES:Community,Volunteer
END:VEVENT
BEGIN:VEVENT
DTSTART;TZID=America/Chicago:20230421T090000
DTEND;TZID=America/Chicago:20230421T160000
DTSTAMP:20260421T083735
CREATED:20230112T151220Z
LAST-MODIFIED:20230112T151452Z
UID:1415-1682067600-1682092800@www.uwheartmo.org
SUMMARY:Give 5 Cohort 4
DESCRIPTION:
URL:https://www.uwheartmo.org/event/give-5-cohort-4/
LOCATION:MO
CATEGORIES:Community,Volunteer
END:VEVENT
END:VCALENDAR