BEGIN:VCALENDAR
VERSION:2.0
PRODID:-//Heart of Missouri United Way - ECPv6.15.20//NONSGML v1.0//EN
CALSCALE:GREGORIAN
METHOD:PUBLISH
X-WR-CALNAME:Heart of Missouri United Way
X-ORIGINAL-URL:https://www.uwheartmo.org
X-WR-CALDESC:Events for Heart of Missouri United Way
REFRESH-INTERVAL;VALUE=DURATION:PT1H
X-Robots-Tag:noindex
X-PUBLISHED-TTL:PT1H
BEGIN:VTIMEZONE
TZID:America/Chicago
BEGIN:DAYLIGHT
TZOFFSETFROM:-0600
TZOFFSETTO:-0500
TZNAME:CDT
DTSTART:20190310T080000
END:DAYLIGHT
BEGIN:STANDARD
TZOFFSETFROM:-0500
TZOFFSETTO:-0600
TZNAME:CST
DTSTART:20191103T070000
END:STANDARD
BEGIN:DAYLIGHT
TZOFFSETFROM:-0600
TZOFFSETTO:-0500
TZNAME:CDT
DTSTART:20200308T080000
END:DAYLIGHT
BEGIN:STANDARD
TZOFFSETFROM:-0500
TZOFFSETTO:-0600
TZNAME:CST
DTSTART:20201101T070000
END:STANDARD
BEGIN:DAYLIGHT
TZOFFSETFROM:-0600
TZOFFSETTO:-0500
TZNAME:CDT
DTSTART:20210314T080000
END:DAYLIGHT
BEGIN:STANDARD
TZOFFSETFROM:-0500
TZOFFSETTO:-0600
TZNAME:CST
DTSTART:20211107T070000
END:STANDARD
BEGIN:DAYLIGHT
TZOFFSETFROM:-0600
TZOFFSETTO:-0500
TZNAME:CDT
DTSTART:20220313T080000
END:DAYLIGHT
BEGIN:STANDARD
TZOFFSETFROM:-0500
TZOFFSETTO:-0600
TZNAME:CST
DTSTART:20221106T070000
END:STANDARD
BEGIN:DAYLIGHT
TZOFFSETFROM:-0600
TZOFFSETTO:-0500
TZNAME:CDT
DTSTART:20230312T080000
END:DAYLIGHT
BEGIN:STANDARD
TZOFFSETFROM:-0500
TZOFFSETTO:-0600
TZNAME:CST
DTSTART:20231105T070000
END:STANDARD
BEGIN:DAYLIGHT
TZOFFSETFROM:-0600
TZOFFSETTO:-0500
TZNAME:CDT
DTSTART:20240310T080000
END:DAYLIGHT
BEGIN:STANDARD
TZOFFSETFROM:-0500
TZOFFSETTO:-0600
TZNAME:CST
DTSTART:20241103T070000
END:STANDARD
BEGIN:DAYLIGHT
TZOFFSETFROM:-0600
TZOFFSETTO:-0500
TZNAME:CDT
DTSTART:20250309T080000
END:DAYLIGHT
BEGIN:STANDARD
TZOFFSETFROM:-0500
TZOFFSETTO:-0600
TZNAME:CST
DTSTART:20251102T070000
END:STANDARD
END:VTIMEZONE
BEGIN:VEVENT
DTSTART;TZID=America/Chicago:20240628T101500
DTEND;TZID=America/Chicago:20240628T130000
DTSTAMP:20260419T175423
CREATED:20240528T174332Z
LAST-MODIFIED:20240530T193015Z
UID:1725-1719569700-1719579600@www.uwheartmo.org
SUMMARY:CoMo Give Give & United Way Screening of the Film "Join or Die"
DESCRIPTION:Give 5 Documentary\nJoin Now or Die: Robert Putnam film on social isolation and loneliness \nRagtag Cinema (10 Hitt St\, Columbia\, MO 65201)\nREGISTER HERE\nThe film centers on America’s civic unraveling through the journey of scientist Robert Putnam\, whose research on the decline in American community lights a path out of our democracy’s present crisis. Learn why you should join a group and why the fate of America may depend on it! There will also be a social with Give 5 graduates following the screening. \nAbout Dr. Putnam: Robert D. Putnam  is an American political scientist and educator best known for his study of social capital. In his most influential books—Making Democracy Work: Civic Traditions in Modern Italy (1993)\, coauthored with Robert Leonardi and Raffaella Nanetti\, and Bowling Alone: The Collapse and Revival of American Community (2000)—Putnam argued that strong and prosperous societies rest upon community relationships and mutual trust\, what he called “social capital.” \nPutnam’s research also led him to a distressing observation: the United States had experienced a significant decline in the level of civic engagement since the 1960s. A consequence of that decline\, he suggested\, is the widespread mistrust of their democratic institutions by the American people. Putnam did not regard this problem as limited to the political sphere. The inability of Americans to connect with friends\, families\, and extended communities\, he suggested\, also has an impact on their health\, productivity\, public safety\, and a number of other social goods. \n“Our national myths often exaggerate the role of the individual heroes and understate the importance of collective effort.”\n—Robert Putnam
URL:https://www.uwheartmo.org/event/1725/
CATEGORIES:Community,Volunteer
END:VEVENT
BEGIN:VEVENT
DTSTART;TZID=America/Chicago:20240621T080000
DTEND;TZID=America/Chicago:20240621T090000
DTSTAMP:20260419T175423
CREATED:20240528T173117Z
LAST-MODIFIED:20240528T173117Z
UID:1723-1718956800-1718960400@www.uwheartmo.org
SUMMARY:Week of Action Breakfast Celebration
DESCRIPTION:We’d also love for you to join us at the Week of Action Breakfast Celebration\, on Friday\, June 21 from 8:00 a.m. – 8:30 a.m.\, at the MU Health Care Pavilion in the Columbia Agriculture Park (1769 W. Ash). Please indicate if you plan to join us for the breakfast celebration when you sign up for a volunteer opportunity.  \nSign up to volunteer today at: https://bit.ly/Week-of-Action-24 
URL:https://www.uwheartmo.org/event/week-of-action-breakfast-celebration/
CATEGORIES:Community,Volunteer
END:VEVENT
BEGIN:VEVENT
DTSTART;VALUE=DATE:20240615
DTEND;VALUE=DATE:20240622
DTSTAMP:20260419T175423
CREATED:20240226T164853Z
LAST-MODIFIED:20240523T150713Z
UID:1663-1718409600-1719014399@www.uwheartmo.org
SUMMARY:United Way Week of Action
DESCRIPTION:On and around June 21\, thousands of people across the globe take action to improve their communities by volunteering with United Way. \nIn 37 countries and territories across the world\, United Way creates meaningful volunteering opportunities — both virtual and in-person — that make it easy for people and organizations to tackle some of the toughest problems facing communities. \nSign Up to Volunteer  \nStay tuned for more Day of Action information! You can also check out our volunteer website at volunteer.uwheartmo.org
URL:https://www.uwheartmo.org/event/united-way-day-of-action/
CATEGORIES:Volunteer
END:VEVENT
BEGIN:VEVENT
DTSTART;VALUE=DATE:20240511
DTEND;VALUE=DATE:20240512
DTSTAMP:20260419T175423
CREATED:20240319T205454Z
LAST-MODIFIED:20240319T210016Z
UID:1671-1715385600-1715471999@www.uwheartmo.org
SUMMARY:Letter Carriers’ Stamp Out Hunger® Food Drive
DESCRIPTION:As the need for food assistance is still more significant than ever\, we want to allow everyone to continue to meet that need and help your local community food pantry or bank.  The Stamp Out Hunger Donor Drive is a drive with a single mission—to feed the hungry in America\, and as always\, with your help\, we will!
URL:https://www.uwheartmo.org/event/letter-carriers-stamp-out-hunger-food-drive/
CATEGORIES:Donate,Give,Volunteer
END:VEVENT
BEGIN:VEVENT
DTSTART;VALUE=DATE:20240421
DTEND;VALUE=DATE:20240429
DTSTAMP:20260419T175423
CREATED:20240319T210037Z
LAST-MODIFIED:20240319T210037Z
UID:1673-1713657600-1714348799@www.uwheartmo.org
SUMMARY:National Volunteer Week
DESCRIPTION:
URL:https://www.uwheartmo.org/event/national-volunteer-week-2/
CATEGORIES:Community,Volunteer
END:VEVENT
BEGIN:VEVENT
DTSTART;VALUE=DATE:20230830
DTEND;VALUE=DATE:20230831
DTSTAMP:20260419T175423
CREATED:20230209T195148Z
LAST-MODIFIED:20230828T171921Z
UID:1439-1693353600-1693439999@www.uwheartmo.org
SUMMARY:2023 Campaign Kickoff & Day of Caring
DESCRIPTION:Join Heart of Missouri United Way for the 2023 Campaign Kick-off and End of Summer Games\n \nWednesday\, August 30th from 12:00-3:30 p.m. at Midway Golf and Games\n\nLunch will be provided by our generous food and beverage sponsor!\nThe Kick-off event will take place from noon to 1:15 p.m.\, with the official Campaign Kick-off announcement beginning at 1:00 p.m.\nThis will be followed by our first annual End of Summer Games from 1:30-3:30 p.m. The games include Corn Hole toss\, Large Block Jenga\, Washers\, and Bocce Ball\nClear 99 will join us for a live broadcast from 12:30-2:30 p.m.\n \nDay of Caring + Kickoff Sponsor \n \nEvent Sponsor \n \n  \nTeam Sponsors \n \n \n \n \n \n \n  \n  \n  \n  \n 
URL:https://www.uwheartmo.org/event/day-of-caring/
CATEGORIES:Campaign,Community,Volunteer
END:VEVENT
BEGIN:VEVENT
DTSTART;VALUE=DATE:20230609
DTEND;VALUE=DATE:20230610
DTSTAMP:20260419T175423
CREATED:20230112T160400Z
LAST-MODIFIED:20230531T212052Z
UID:1416-1686268800-1686355199@www.uwheartmo.org
SUMMARY:Day of Action & Give 5 Graduation
DESCRIPTION:Day of Action is a day where community members take action to improve their communities by volunteering with United Way.\n  \nWe will kick off Day of Action on June 9th at 8:00 a.m. with breakfast at the Dexheimer Shelter located at Cosmo Park. \nAt 8:30 a.m.\, Heart of Missouri United Way will welcome all volunteers and then we will hear remarks from Ric Ransom\, MU Health Care’s Chief Executive Officer\, and Kip Kendrick\, Presiding Boone County Commissioner.  \nWe will then hold a Give 5 graduation ceremony for nine individuals that completed our Give 5 volunteer program. \nThe Chamber of Commerce will conduct a ribbon cutting ceremony for the first annual Day of Action! \nDay of Action volunteers can pick up relevant materials (i.e.\, gloves\, bags\, maps\, t-shirts) while at the Dexheimer Shelter. Breakfast will conclude by 9:00am. \nSign-up for Day of Action\nSponsored by
URL:https://www.uwheartmo.org/event/day-of-action/
CATEGORIES:Community,Volunteer
END:VEVENT
BEGIN:VEVENT
DTSTART;TZID=America/Chicago:20230421T090000
DTEND;TZID=America/Chicago:20230421T160000
DTSTAMP:20260419T175423
CREATED:20230112T151220Z
LAST-MODIFIED:20230112T151452Z
UID:1415-1682067600-1682092800@www.uwheartmo.org
SUMMARY:Give 5 Cohort 4
DESCRIPTION:
URL:https://www.uwheartmo.org/event/give-5-cohort-4/
CATEGORIES:Community,Volunteer
END:VEVENT
BEGIN:VEVENT
DTSTART;VALUE=DATE:20230421
DTEND;VALUE=DATE:20230422
DTSTAMP:20260419T175423
CREATED:20230209T215254Z
LAST-MODIFIED:20230412T205358Z
UID:1442-1682035200-1682121599@www.uwheartmo.org
SUMMARY:Give 5 Cohort 3 Graduation & Annual Awards
DESCRIPTION:We invite you to join Heart of Missouri United Way for our Annual Awards Presentation & Give 5 Graduation on Friday\, April 21\, 12:00 p.m. at Shelter Insurance Training Center. \nPlease join Dr. Eryca Neville\, Douglass High School Principal and Heart of Missouri United Way Board Chair\, the Give 5 graduating class\, this year’s Volunteer Award Recipients\, and Andrew Grabau\, Heart of Missouri United Way President and CEO to celebrate National Volunteer Week\, 2022 Award Winners\, and Give 5 graduation. \nWe will begin by highlighting the exceptional volunteerism in our community. We will then announce the annual award recipients for the Jack Matthews Award\, Charlyn Y. Law Memorial Award\, Campaign Chair Achievement Awards\, and the University of Missouri – United Way Volunteer Excellence Award. Lastly\, we will celebrate another special group of volunteers\, the Give 5 graduates\, who have completed the program and pledged to “Give 5” hours a month to a nonprofit of their choice. \nOur celebration will include lunch and cupcakes! \nRegister Here
URL:https://www.uwheartmo.org/event/give-5-cohort-3-graduation/
CATEGORIES:Community,Volunteer
END:VEVENT
BEGIN:VEVENT
DTSTART;TZID=America/Chicago:20230416T080000
DTEND;TZID=America/Chicago:20230422T170000
DTSTAMP:20260419T175423
CREATED:20230209T202941Z
LAST-MODIFIED:20230209T215212Z
UID:1441-1681632000-1682182800@www.uwheartmo.org
SUMMARY:National Volunteer Week
DESCRIPTION:
URL:https://www.uwheartmo.org/event/national-volunteer-week/
CATEGORIES:Community,Volunteer
END:VEVENT
BEGIN:VEVENT
DTSTART;TZID=America/Chicago:20230224T090000
DTEND;TZID=America/Chicago:20230224T160000
DTSTAMP:20260419T175423
CREATED:20230112T150912Z
LAST-MODIFIED:20230112T150912Z
UID:1414-1677229200-1677254400@www.uwheartmo.org
SUMMARY:Give 5 Cohort 3
DESCRIPTION:
URL:https://www.uwheartmo.org/event/give-5-cohort-3/
CATEGORIES:Community,Volunteer
END:VEVENT
BEGIN:VEVENT
DTSTART;TZID=America/Chicago:20200926T080000
DTEND;TZID=America/Chicago:20200926T170000
DTSTAMP:20260419T175423
CREATED:20200910T215831Z
LAST-MODIFIED:20200910T215831Z
UID:520-1601107200-1601139600@www.uwheartmo.org
SUMMARY:Volunteer Event 2
DESCRIPTION:This is a test event.
URL:https://www.uwheartmo.org/event/volunteer-event-2/
LOCATION:Test\, 32 Wallaby Way\, Columbia\, MO\, 65202\, United States
CATEGORIES:Volunteer
ATTACH;FMTTYPE=image/jpeg:https://www.uwheartmo.org/wp-content/uploads/2020/09/01-tocqueville-leadershipcircle.jpg
END:VEVENT
BEGIN:VEVENT
DTSTART;TZID=America/Chicago:20200910T080000
DTEND;TZID=America/Chicago:20200925T170000
DTSTAMP:20260419T175423
CREATED:20200925T215904Z
LAST-MODIFIED:20200914T163009Z
UID:521-1599724800-1601053200@www.uwheartmo.org
SUMMARY:Volunteer Event 3
DESCRIPTION:This is a test event.
URL:https://www.uwheartmo.org/event/volunteer-event-3/
LOCATION:Test\, 32 Wallaby Way\, Columbia\, MO\, 65202\, United States
CATEGORIES:Volunteer
ATTACH;FMTTYPE=image/jpeg:https://www.uwheartmo.org/wp-content/uploads/2020/09/01-allevents-giveevents.jpg
END:VEVENT
END:VCALENDAR